BEGIN:VCALENDAR
VERSION:2.0
PRODID:-//Tukios.com/
BEGIN:VEVENT
UID:965948e0-00fe-4841-b907-06720d431b10@www.gpfuneralhomes.com
DTSTAMP:20260420T221438Z
DTSTART:20260422T230000Z
DTEND:20260423T000000Z
SUMMARY:Visitation
DESCRIPTION:
URL:https://www.gpfuneralhomes.com/obituaries/marilyn-ejem
LOCATION:Cook-Gerngross-Green-Patteson Funeral Home 111 2nd Street  
	Rosebud TX 76570
GEO:31.073687;-96.975491
END:VEVENT
END:VCALENDAR