BEGIN:VCALENDAR
VERSION:2.0
PRODID:-//Tukios.com/
BEGIN:VEVENT
UID:3f5e539b-1084-4813-84f9-5c69bfd01817@www.gpfuneralhomes.com
DTSTAMP:20260420T221559Z
DTSTART:20260423T150000Z
DTEND:20260423T160000Z
SUMMARY:Funeral Service
DESCRIPTION:
URL:https://www.gpfuneralhomes.com/obituaries/marilyn-ejem
LOCATION: 144 County Rd 3000  Lott TX 76656
GEO:31.1225576;-97.1157472
END:VEVENT
END:VCALENDAR